BEGIN:VCALENDAR
VERSION:2.0
PRODID:-//SnoValley Innovation Center - ECPv6.15.20//NONSGML v1.0//EN
CALSCALE:GREGORIAN
METHOD:PUBLISH
X-WR-CALNAME:SnoValley Innovation Center
X-ORIGINAL-URL:https://www.snovalleyinnovationcenter.com
X-WR-CALDESC:Events for SnoValley Innovation Center
REFRESH-INTERVAL;VALUE=DURATION:PT1H
X-Robots-Tag:noindex
X-PUBLISHED-TTL:PT1H
BEGIN:VTIMEZONE
TZID:Pacific/Honolulu
BEGIN:STANDARD
TZOFFSETFROM:-1000
TZOFFSETTO:-1000
TZNAME:HST
DTSTART:20250101T000000
END:STANDARD
END:VTIMEZONE
BEGIN:VEVENT
DTSTART;TZID=Pacific/Honolulu:20260417T120000
DTEND;TZID=Pacific/Honolulu:20260417T130000
DTSTAMP:20260419T223153
CREATED:20260416T033205Z
LAST-MODIFIED:20260416T033420Z
UID:1758-1776427200-1776430800@www.snovalleyinnovationcenter.com
SUMMARY:Innovation Friday Meeting
DESCRIPTION:Innovation Friday \nJoin us for “Innovation Fridays”—a FREE weekly gathering designed to connect entrepreneurs\, spark new ideas\, and fuel business growth. It’s a dynamic hour of networking\, learning\, and inspiration. Whether you’re launching a startup or scaling an established business\, everyone is welcome! No reservation is required. \nThe meetings take place from 12:00pm to 1:00pm\, and are FREE to attend.
URL:https://www.snovalleyinnovationcenter.com/event/innovation-friday-meeting-4-17-2026/
LOCATION:SnoValley Innovation Center\, 132 West Second\, North Bend\, WA\, 98045\, United States
ATTACH;FMTTYPE=image/png:https://www.snovalleyinnovationcenter.com/wp-content/uploads/2026/03/SVIC_event_01.png
ORGANIZER;CN="SnoValley Innovation Center":MAILTO:SVIC Team
END:VEVENT
END:VCALENDAR